BEGIN:VCALENDAR
VERSION:2.0
PRODID:-//ChamberMaster//Event Calendar 2.0//EN
METHOD:PUBLISH
X-PUBLISHED-TTL:P3D
REFRESH-INTERVAL:P3D
CALSCALE:GREGORIAN
BEGIN:VEVENT
DTSTART:20231221T003000Z
DTEND:20231221T030000Z
X-MICROSOFT-CDO-ALLDAYEVENT:FALSE
SUMMARY:Veuve Clicquot Dinner – The Art of Living
DESCRIPTION:Celebrate the art of living with a 5-course dinner paired with your favorites from Veuve Clicquot\, including La Grande Dame\, the house's most exclusive cuv e.
X-ALT-DESC;FMTTYPE=text/html:Celebrate the art of living with a 5-course dinner paired with your favorites from Veuve Clicquot\, including La Grande Dame\, the house&rsquo\;s most exclusive cuv&eacute\;e.<br />\n&nbsp\;
LOCATION:Winter Village at The Westin Edina Galleria
UID:e.1654.437083
SEQUENCE:3
DTSTAMP:20260420T044837Z
URL:https://business.edina.org/events/details/veuve-clicquot-dinner-the-art-of-living-437083
END:VEVENT

END:VCALENDAR
