BEGIN:VCALENDAR
VERSION:2.0
PRODID:-//ChamberMaster//Event Calendar 2.0//EN
METHOD:PUBLISH
X-PUBLISHED-TTL:P3D
REFRESH-INTERVAL:P3D
CALSCALE:GREGORIAN
BEGIN:VEVENT
DTSTART:20221116T173000Z
DTEND:20221116T190000Z
X-MICROSOFT-CDO-ALLDAYEVENT:FALSE
SUMMARY:The Impact of Minnesota's New THC Law on the Workplace
DESCRIPTION:Are you an employer with questions about the impact of THC in the workplace?  Abdo is hosting a free webinar and discussing the new regulations with a panel of experts in Minnesota law and law enforcement. Please register here:  https://abdosolutions.com/the-impact-of-mns-new-thc-law-on-the-workplace-a-guide-for-employers/
X-ALT-DESC;FMTTYPE=text/html:Are you an employer with questions about the impact of THC in the workplace?&nbsp\; Abdo is hosting a free webinar and discussing the new regulations with a panel of experts in Minnesota law and law enforcement. Please register here:&nbsp\; https://abdosolutions.com/the-impact-of-mns-new-thc-law-on-the-workplace-a-guide-for-employers/&nbsp\;
LOCATION:
UID:e.1654.437010
SEQUENCE:3
DTSTAMP:20260422T204422Z
URL:https://business.edina.org/events/details/the-impact-of-minnesota-s-new-thc-law-on-the-workplace-437010
END:VEVENT

END:VCALENDAR
