BEGIN:VCALENDAR
VERSION:2.0
PRODID:-//ChamberMaster//Event Calendar 2.0//EN
METHOD:PUBLISH
X-PUBLISHED-TTL:P3D
REFRESH-INTERVAL:P3D
CALSCALE:GREGORIAN
BEGIN:VEVENT
DTSTART:20230517T130000Z
DTEND:20230517T141500Z
X-MICROSOFT-CDO-ALLDAYEVENT:FALSE
SUMMARY:"The Art of Selling and Buying a Business" Seminar
DESCRIPTION:Join us for this FREE informational seminar\n\nWednesday\, May 17\, 2023\n\nIn Person at 6550 York Ave South\, Edina\n\nFrom 8:00 am to 9:15 am\n\nOr Virtual from 8:15 am to 9:15 am\n\n\n\nJoin merger and acquisition expert Sam Thompson as he presents critical factors you need to know prior to selling or buying a business.\n\n  How to prepare to sell your company\n\n  How to properly evaluate a company you want to purchase\n\n  What you can do to pay a reasonable price for another company or get top dollar for your company\n\n  Look at the current M&A landscape\n\n  John Thwing with Live Oak Bank will provide SBA updates\n\nThis seminar will provide valuable information for business owners\, strategic and owner operator buyers\, bankers\, attorneys\, CPA's and business coaches.
X-ALT-DESC;FMTTYPE=text/html:<h3 style="text-align:center"><span style="color:rgb(130\, 189\, 65)\; font-family:inherit">Join us for this FREE informational seminar</span></h3>\n\n<p style="text-align:center"><span style="font-family:inherit\; font-size:24px"><span style="font-family:inherit">Wednesday\, May 17\, 2023</span></span></p>\n\n<p style="text-align:center"><span style="font-family:inherit\; font-size:24px"><span style="font-family:inherit">In Person at 6550 York Ave South\, Edina</span></span></p>\n\n<p style="text-align:center"><span style="font-family:inherit\; font-size:24px"><span style="font-family:inherit">From 8:00 am to 9:15 am</span></span></p>\n\n<p style="text-align:center"><span style="font-family:inherit\; font-size:24px"><span style="font-family:inherit">Or Virtual from 8:15 am to 9:15 am</span></span></p>\n\n<p><br />\nJoin merger and acquisition expert Sam Thompson as he presents critical factors you need to know prior to selling or buying a business.</p>\n\n<p>&bull\; How to prepare to sell your company<br />\n&bull\; How to properly evaluate a company you want to purchase<br />\n&bull\; What you can do to pay a reasonable price for another company or get top dollar for your company<br />\n&bull\; Look at the current M&amp\;A landscape<br />\n&bull\; John Thwing with Live Oak Bank will provide SBA updates</p>\n\n<p>This seminar will provide valuable information for business owners\, strategic and owner operator buyers\, bankers\, attorneys\, CPA&rsquo\;s and business coaches.</p>\n
LOCATION:Transitions In Business 6550 York Ave South Edina\, MN 55435
UID:e.1654.437045
SEQUENCE:3
DTSTAMP:20260422T114226Z
URL:https://business.edina.org/events/details/the-art-of-selling-and-buying-a-business-seminar-437045
END:VEVENT

END:VCALENDAR
