BEGIN:VCALENDAR
VERSION:2.0
PRODID:-//ChamberMaster//Event Calendar 2.0//EN
METHOD:PUBLISH
X-PUBLISHED-TTL:P3D
REFRESH-INTERVAL:P3D
CALSCALE:GREGORIAN
BEGIN:VEVENT
DTSTART:20231109T220000Z
DTEND:20231110T010000Z
X-MICROSOFT-CDO-ALLDAYEVENT:FALSE
SUMMARY:Ribbon Cutting & Re-Grand Opening at Ethan Allen
DESCRIPTION:Ethan Allen is excited to announce their Re-Grand Opening at their Edina location. Join us in celebrating and welcoming them to the Edina Chamber of Commerce!\n\n\n\nAt Ethan Allen\, we offer a broad range of furniture and accessories\, including quality living room furniture\, dining room furniture\, bedroom furniture and home d cor. Create the look you'll love from classic to contemporary with free interior design help from our design pros.
X-ALT-DESC;FMTTYPE=text/html:<br />\n<strong>Ethan Allen is excited to announce their Re-Grand Opening at their Edina location. Join us in celebrating and welcoming them to the Edina Chamber of Commerce!</strong><br />\n<br />\nAt Ethan Allen\, we offer a broad range of furniture and accessories\, including quality living room furniture\, dining room furniture\, bedroom furniture and home d&eacute\;cor. Create the look you&#39\;ll love from classic to contemporary with free interior design help from our design pros.
LOCATION:Ethan Allen 7101 France Ave S Edina\, 55435\, MN
UID:e.1654.437075
SEQUENCE:3
DTSTAMP:20260420T044656Z
URL:https://business.edina.org/events/details/ribbon-cutting-re-grand-opening-at-ethan-allen-437075
END:VEVENT

END:VCALENDAR
