BEGIN:VCALENDAR
VERSION:2.0
PRODID:-//ChamberMaster//Event Calendar 2.0//EN
METHOD:PUBLISH
X-PUBLISHED-TTL:P3D
REFRESH-INTERVAL:P3D
CALSCALE:GREGORIAN
BEGIN:VEVENT
DTSTART:20240925T203000Z
DTEND:20240925T213000Z
X-MICROSOFT-CDO-ALLDAYEVENT:FALSE
SUMMARY:Ribbon Cutting: J.Hilburn - Custom Made Men’s Clothing
DESCRIPTION:J.Hilburn - Custom Made Men's Clothing \n\nJ.Hilburn Stylist Owned Studio located at 50th & France\, the heart of Edina\, offers a full- service\, Mens' Custom-Made Lifestyle Brand clothing experience across all categories - from business to casual\, golf course to the board room. J.Hilburn has obsessively re- engineered custom menswear.\n\n\n\nOwner\, Jennifer Shinners has over 15 years experience with J.Hilburn providing the best of service and style to her clients. "I work with clients both in person and remotely from anywhere. At the J.Hilburn Stylist Studio\, we combine a Personal Stylist experience with the power of proprietary technology to create clothes built just for you from the finest fabrics in the world delivered directly to you. Appointments available by request. Walk-ins welcome."\nRibbon cutting will take place at 4:00pm!
X-ALT-DESC;FMTTYPE=text/html:<strong>J.Hilburn - Custom Made Men&rsquo\;s Clothing&nbsp\;</strong>\n\n<p>J.Hilburn Stylist Owned Studio located at 50th &amp\; France\, the heart of Edina\, offers a full- service\, Mens&#39\; Custom-Made Lifestyle Brand clothing experience across all categories - from business to casual\, golf course to the board room. J.Hilburn has obsessively re- engineered custom menswear.<br />\n<br />\nOwner\, Jennifer Shinners has over 15 years experience with J.Hilburn providing the best of service and style to her clients. &quot\;I work with clients both in person and remotely from anywhere. At the J.Hilburn Stylist Studio\, we combine a Personal Stylist experience with the power of proprietary technology to create clothes built just for you from the finest fabrics in the world delivered directly to you. Appointments available by request. Walk-ins welcome.&quot\;</p>\n<em><strong>Ribbon cutting will take place at 4:00pm!</strong></em>
LOCATION:5047 France Ave S\, Edina
UID:e.1654.437128
SEQUENCE:3
DTSTAMP:20260419T142059Z
URL:https://business.edina.org/events/details/ribbon-cutting-j-hilburn-custom-made-men-s-clothing-437128
END:VEVENT

END:VCALENDAR
