BEGIN:VCALENDAR
VERSION:2.0
PRODID:-//ChamberMaster//Event Calendar 2.0//EN
METHOD:PUBLISH
X-PUBLISHED-TTL:P3D
REFRESH-INTERVAL:P3D
CALSCALE:GREGORIAN
BEGIN:VEVENT
DTSTART:20221207T220000Z
DTEND:20221207T230000Z
X-MICROSOFT-CDO-ALLDAYEVENT:FALSE
SUMMARY:Ribbon Cutting at The Exercise Coach
DESCRIPTION:Join us at The Exercise Coach Ribbon Cutting Ceremony and help welcome them to our wonderful business community!\n\n\n\nAt The Exercise Coach\, we focus on getting those who don't have time to spend hours in the gym or don't love to exercise results that turn-back the aging process in just two 20-minute workouts per week.  We specialize in personal and small-group strength and conditioning exercise\, utilizing Exerbotics - the nation's first connected strength platform.  Our certified coaches are here to provide you with the direction\, confidence\, and motivation you need to achieve the results you want.
X-ALT-DESC;FMTTYPE=text/html:<p><br />\nJoin us at The Exercise Coach Ribbon Cutting Ceremony and help welcome them to our wonderful business community!<br />\n<br />\nAt The Exercise Coach\, we focus on getting those who don&#39\;t have time to spend hours in the gym or don&#39\;t love to exercise results that turn-back the aging process in just two 20-minute workouts per week.&nbsp\; We specialize in personal and small-group strength and conditioning exercise\, utilizing Exerbotics - the nation&#39\;s first connected strength platform.&nbsp\; Our certified coaches are here to provide you with the direction\, confidence\, and motivation you need to achieve the results you want.<br />\n&nbsp\;</p>\n
LOCATION:The Exercise Coach 4956 Xerxes Ave. S. Minneapolis\, MN 55420
UID:e.1654.437012
SEQUENCE:3
DTSTAMP:20260422T190922Z
URL:https://business.edina.org/events/details/ribbon-cutting-at-the-exercise-coach-437012
END:VEVENT

END:VCALENDAR
