BEGIN:VCALENDAR
VERSION:2.0
PRODID:-//ChamberMaster//Event Calendar 2.0//EN
METHOD:PUBLISH
X-PUBLISHED-TTL:P3D
REFRESH-INTERVAL:P3D
CALSCALE:GREGORIAN
BEGIN:VEVENT
DTSTART:20230313T210000Z
DTEND:20230313T220000Z
X-MICROSOFT-CDO-ALLDAYEVENT:FALSE
SUMMARY:Ribbon Cutting at Flex Fitness
DESCRIPTION:Join us in welcoming one of our newest members to Edina!\n\n \n\nFlex Fitness specializes in group fitness\, Our workouts include Circuit Training Classes\, Strength Training Classes\, HIIT Classes and Restoration Sessions. Our unique programs and trainers will inspire you to get outside your comfort zone\, find your strength\, have fun and be the best version of you.
X-ALT-DESC;FMTTYPE=text/html:<div>&nbsp\;</div>\n\n<div>\n<div>Join us in welcoming one of our newest members to Edina!</div>\n\n<div>&nbsp\;</div>\n\n<div>Flex Fitness specializes in group fitness\, Our workouts&nbsp\;include Circuit Training Classes\, Strength Training Classes\, HIIT Classes and Restoration Sessions. Our unique programs and trainers will inspire you to get outside your comfort zone\, find your strength\, have fun and be the best version of you.</div>\n</div>\n
LOCATION:Flex Fitness Location- 7491 France Ave S. Edina\, MN 55435 Lower level of Centennial Lakes Plaza next to Go Glow and Core Power
UID:e.1654.437036
SEQUENCE:3
DTSTAMP:20260422T144928Z
URL:https://business.edina.org/events/details/ribbon-cutting-at-flex-fitness-437036
END:VEVENT

END:VCALENDAR
