BEGIN:VCALENDAR
VERSION:2.0
PRODID:-//ChamberMaster//Event Calendar 2.0//EN
METHOD:PUBLISH
X-PUBLISHED-TTL:P3D
REFRESH-INTERVAL:P3D
CALSCALE:GREGORIAN
BEGIN:VEVENT
DTSTART:20231205T220000Z
DTEND:20231205T230000Z
X-MICROSOFT-CDO-ALLDAYEVENT:FALSE
SUMMARY:Ribbon Cutting at Burch Insurance Agency - POSTPONED
DESCRIPTION:EVENT POSTPONED\n\n\n\nAs your local Farmers  agent in Edina\, Minnesota\, I help customers like you identify the insurance coverage that best fits your needs. This process is straightforward and personalized to help make you smarter about insurance. I have the knowledge and experience to help you better understand your coverage options--whether that's auto\, home\, renters\, business\, Life insurance and more.\n\nI'm a former Marine Captain that served 6 years in the USMC and then spent 22 years in retail running different regions across the country. I'm now bringing the same dedication and high service quality to you as your local Farmers Insurance Agent. Say hello\, I would love to talk!\n\nGive me a call at (612) 425-1152 and I'll be happy to answer any questions you might have.
X-ALT-DESC;FMTTYPE=text/html:<p><strong style="color: rgb(178\, 34\, 34)\;">EVENT POSTPONED</strong><br />\n<br />\nAs your local Farmers&reg\; agent in Edina\, Minnesota\, I help customers like you identify the insurance coverage that best fits your needs. This process is straightforward and personalized to help make you smarter about insurance. I have the knowledge and experience to help you better understand your coverage options--whether that&#39\;s auto\, home\, renters\, business\, Life insurance and more.</p>\n\n<p>I&#39\;m a former Marine Captain that served 6 years in the USMC and then spent 22 years in retail running different regions across the country. I&#39\;m now bringing the same dedication and high service quality to you as your local Farmers Insurance Agent. Say hello\, I would love to talk!</p>\n\n<p>Give me a call at (612) 425-1152 and I&#39\;ll be happy to answer any questions you might have.</p>\n
LOCATION:5007 France Ave S STE 2 Minneapolis\, MN 55410
UID:e.1654.437078
SEQUENCE:3
DTSTAMP:20260420T044640Z
URL:https://business.edina.org/events/details/ribbon-cutting-at-burch-insurance-agency-postponed-437078
END:VEVENT

END:VCALENDAR
