BEGIN:VCALENDAR
VERSION:2.0
PRODID:-//ChamberMaster//Event Calendar 2.0//EN
METHOD:PUBLISH
X-PUBLISHED-TTL:P3D
REFRESH-INTERVAL:P3D
CALSCALE:GREGORIAN
BEGIN:VEVENT
DTSTART:20231110T220000Z
DTEND:20231110T230000Z
X-MICROSOFT-CDO-ALLDAYEVENT:FALSE
SUMMARY:Ribbon Cutting at Bhatti GI and Consultants
DESCRIPTION:Bhatti GI and Consultants is excited to announce the grand opening of our newest clinic and ambulatory surgery center (Southdale Specialty Surgery Center). Join us in welcoming them to the Edina Chamber of Commerce!
X-ALT-DESC;FMTTYPE=text/html:<strong>Bhatti GI and Consultants is excited to announce the grand opening of our newest clinic and ambulatory surgery center (Southdale Specialty Surgery Center). Join us in welcoming them to the Edina Chamber of Commerce!</strong>
LOCATION:6500 Barrie Rd Edina\, MN 55435
UID:e.1654.437073
SEQUENCE:3
DTSTAMP:20260420T044534Z
URL:https://business.edina.org/events/details/ribbon-cutting-at-bhatti-gi-and-consultants-437073
END:VEVENT

END:VCALENDAR
