BEGIN:VCALENDAR
VERSION:2.0
PRODID:-//ChamberMaster//Event Calendar 2.0//EN
METHOD:PUBLISH
X-PUBLISHED-TTL:P3D
REFRESH-INTERVAL:P3D
CALSCALE:GREGORIAN
BEGIN:VEVENT
DTSTART:20240819T143000Z
DTEND:20240819T193000Z
X-MICROSOFT-CDO-ALLDAYEVENT:FALSE
SUMMARY:RESCHEDULED 2024 Green Tie Open Golf Tournament
DESCRIPTION:Join us for a fun-filled day out on the course providing opportunities to connect and mingle with members of the Edina business community!\n\n\n\nThe golf tournament will consist of a 12-hole scramble tournament plus 6 holes of competitive games for prizes including longest drive\, closest to the pin and longest putt. These adjustments help make the tournament a perfect golf event for all levels of players.\n\n\n\nThe event is open to the public and non-chamber members are cordially welcome to participate.\n\n\n\nEVENT SCHEDULE:\n\n8:30AM - Check-In\, Grab & Go Breakfast\n\n9:30AM - Shotgun Start \n\n1:30PM - Lunch & Social\n\n\n\nPLEASE NOTE THE UPDATED SHOTGUN START OF 9:30AM.\n\n \n\nINDIVIDUAL PRIZES\n\n1 Door Prize - $10\n\n1 Lucky Number - $10\n\n\n\nGOLFER ADVANTAGE PACKAGE - $20\n\n1 Mulligan\, 1 Door Prize\, 1 Lucky Number\, 1 Red Tee\n\n\n\nBECOME A SPONSOR\n\nPromote your business by sponsoring the event! Contact caitlyn@edina.org for information.\n\n\n\nEvent proceeds benefit the Edina Chamber of Commerce\, serving the Edina area business community since 1972. We appreciate your support!
X-ALT-DESC;FMTTYPE=text/html:<p>Join us for a fun-filled day out on the course providing opportunities to connect and mingle with members of the Edina business community!<br />\n<br />\nThe golf tournament will consist of a 12-hole scramble tournament plus 6 holes of competitive games for prizes&nbsp\;including longest drive\, closest to the pin and longest putt. These adjustments help make the tournament a perfect golf event for all levels of players.<br />\n<br />\nThe event is open to the public and non-chamber members are cordially welcome to participate.<br />\n<br />\n<u><strong>EVENT SCHEDULE:</strong></u><br />\n8:30AM - Check-In\, Grab &amp\; Go Breakfast<br />\n9:30AM - Shotgun Start&nbsp\;<br />\n1:30PM - Lunch &amp\; Social<br />\n<br />\n<span style="color:#B22222\;"><strong>PLEASE NOTE THE UPDATED SHOTGUN START OF 9:30AM.</strong></span><br />\n&nbsp\;</p>\n\n<p><strong>INDIVIDUAL PRIZES</strong></p>\n\n<p>1 Door Prize - $10</p>\n\n<p>1 Lucky Number - $10</p>\n\n<p><br />\n<strong>GOLFER ADVANTAGE PACKAGE - $20</strong></p>\n\n<p>1 Mulligan\, 1 Door Prize\, 1 Lucky Number\, 1 Red Tee</p>\n\n<p><br />\n<strong>BECOME A SPONSOR</strong><br />\nPromote your business by sponsoring the event! Contact caitlyn@edina.org for information.<br />\n<br />\nEvent proceeds benefit the Edina Chamber of Commerce\, serving the Edina area business community since 1972. We appreciate your support!<br />\n<br />\n&nbsp\;</p>\n
LOCATION:Braemar Golf Course 6364 John Harris Dr Edina\, MN 55439
UID:e.1654.437102
SEQUENCE:3
DTSTAMP:20260419T153016Z
URL:https://business.edina.org/events/details/rescheduled-2024-green-tie-open-golf-tournament-437102
END:VEVENT

END:VCALENDAR
