BEGIN:VCALENDAR
VERSION:2.0
PRODID:-//ChamberMaster//Event Calendar 2.0//EN
METHOD:PUBLISH
X-PUBLISHED-TTL:P3D
REFRESH-INTERVAL:P3D
CALSCALE:GREGORIAN
BEGIN:VEVENT
DTSTART:20240207T000000Z
DTEND:20240207T020000Z
X-MICROSOFT-CDO-ALLDAYEVENT:FALSE
SUMMARY:Power of Purpose with Richard Leider
DESCRIPTION:What is a purposeful life? It's a fulfilling life with a clear answer to the question: "Why do you get up in the morning?" Purpose is not just for a special few\, but something each one of us is born with and can unlock at any age. Fundamental to happiness\, health\, and longevity\, naming your purpose can give you the will to not just live\, but to live long and well. Join us for this exciting purpose-filled journey with Richard Leider.\n\n\n\nThe Lab works with entrepreneurs and established business owners throughout the Twin Cities to grow and evolve their businesses in an ever-changing environment. Many small business owners have found their passion\, but may need help getting to the next level. That's where the Lab comes in\, providing guidance on finance and accounting\, marketing\, relationship management\, sales\, legal\, media marketing strategies\, employee recruitment\, and human resources. \n\n\n\nFor more information about the event\, ticket sales\, and Richard Leider visit the O'Shaughnessy at St. Catherine University's website HERE.
X-ALT-DESC;FMTTYPE=text/html:What is a purposeful life? It&rsquo\;s a fulfilling life with a clear answer to the question: &ldquo\;Why do you get up in the morning?&rdquo\; Purpose is not just for a special few\, but something each one of us is born with and can unlock at any age. Fundamental to happiness\, health\, and longevity\, naming your purpose can give you the will to not just live\, but to live long and well. Join us for this exciting purpose-filled journey with Richard Leider.<br />\n<br />\nThe Lab works with&nbsp\;entrepreneurs and established business owners throughout the Twin Cities to grow and evolve their businesses in an ever-changing environment. Many small business owners have found their passion\, but may need help getting to the next level. That&#39\;s where the Lab comes in\, providing guidance on finance and accounting\, marketing\, relationship management\, sales\, legal\, media marketing strategies\, employee recruitment\, and human resources.&nbsp\;<br />\n<br />\n<strong>For more information about the event\, ticket sales\, and Richard Leider visit the O&#39\;Shaughnessy at St. Catherine University&#39\;s website <a href="https://oshag.stkate.edu/event/richard-leider-the-power-of-purpose/the-oshaughnessy-at-st-catherine-university/st-paul-minnesota/?fbclid=IwAR3W_lOPyl4qPBLZ1Te-LEJP5Cwo_CrHqTYptOfCN8cLUALo_6XDEQqNcc0">HERE</a>.&nbsp\;</strong>
LOCATION:O'Shaughnessy at St. Catherine University
UID:e.1654.437093
SEQUENCE:3
DTSTAMP:20260420T001720Z
URL:https://business.edina.org/events/details/power-of-purpose-with-richard-leider-437093
END:VEVENT

END:VCALENDAR
