BEGIN:VCALENDAR
VERSION:2.0
PRODID:-//ChamberMaster//Event Calendar 2.0//EN
METHOD:PUBLISH
X-PUBLISHED-TTL:P3D
REFRESH-INTERVAL:P3D
CALSCALE:GREGORIAN
BEGIN:VEVENT
DTSTART:20240405T170000Z
DTEND:20240407T230000Z
X-MICROSOFT-CDO-ALLDAYEVENT:FALSE
SUMMARY:Plekkenpol Builders Spring Remodelers Showcase
DESCRIPTION:Tour this home during the Spring Parade of Homes Remodelers Showcase !\n\n \n\nA completely redesigned main level includes a welcoming entry\, formal and informal dining rooms\, powder room\, mud room/laundry and fully remodeled kitchen. Details and finishes are reflected throughout for a warm\, contemporary and cohesive feel. Custom built-ins in the dinette and mudroom create a functional and beautiful space for the family. See for yourself: When Plekkenpol Builders remodels your home\, "The Difference is in the Details." \n\n \n\nVisit www.plekkenpol.com for more information or call 952.888.2225.
X-ALT-DESC;FMTTYPE=text/html:<strong>Tour this home during the Spring Parade of Homes Remodelers Showcase&reg\;!</strong><br />\n&nbsp\;<br />\nA completely redesigned main level includes a welcoming entry\, formal and informal dining rooms\, powder room\, mud room/laundry and fully remodeled kitchen. Details and finishes are reflected throughout for a warm\, contemporary and cohesive feel. Custom built-ins in the dinette and mudroom create a functional and beautiful space for the family. See for yourself: When Plekkenpol Builders remodels your home\, <em>&ldquo\;The Difference is in the Details.&rdquo\; </em><br />\n&nbsp\;<br />\nVisit <strong>www.plekkenpol.com</strong> for more information or call 952.888.2225.
LOCATION:
UID:e.1654.437109
SEQUENCE:3
DTSTAMP:20260419T223843Z
URL:https://business.edina.org/events/details/plekkenpol-builders-spring-remodelers-showcase-04-05-2024-437109
END:VEVENT

END:VCALENDAR
