BEGIN:VCALENDAR
VERSION:2.0
PRODID:-//ChamberMaster//Event Calendar 2.0//EN
METHOD:PUBLISH
X-PUBLISHED-TTL:P3D
REFRESH-INTERVAL:P3D
CALSCALE:GREGORIAN
BEGIN:VEVENT
DTSTART:20230331T170000Z
DTEND:20230402T230000Z
X-MICROSOFT-CDO-ALLDAYEVENT:FALSE
SUMMARY:Plekkenpol Builders Spring Remodelers Showcase
DESCRIPTION:Tour this home during the Spring Parade of Homes Remodelers Showcase !\n\n \n\nFocusing on an open floor plan and repurposed spaces\, the entire main level of this 1960s home was remodeled to reflect the owners' changing needs and today's casual living. After removing three interior walls\, doubling the kitchen's size\, adding a library\, enclosed sunroom\, remodeled powder room and main floor laundry/mud room\, the home is perfectly tailored to the next phase of their lives. See for yourself: When Plekkenpol Builders remodels your home\, "The Difference is in the Details." \n\n \n\nVisit www.plekkenpol.com for more information or call 952.888.2225.
X-ALT-DESC;FMTTYPE=text/html:<strong>Tour this home during the Spring Parade of Homes Remodelers Showcase&reg\;!</strong><br />\n&nbsp\;<br />\nFocusing on an open floor plan and repurposed spaces\, the entire main level of this 1960s home was remodeled to reflect the owners&rsquo\; changing needs and today&rsquo\;s casual living. After removing three interior walls\, doubling the kitchen&rsquo\;s size\, adding a library\, enclosed sunroom\, remodeled powder room and main floor laundry/mud room\, the home is perfectly tailored to the next phase of their lives. See for yourself: When Plekkenpol Builders remodels your home\, <em>&ldquo\;The Difference is in the Details.&rdquo\; </em><br />\n&nbsp\;<br />\nVisit <strong>www.plekkenpol.com</strong> for more information or call 952.888.2225.
LOCATION:
UID:e.1654.437033
SEQUENCE:3
DTSTAMP:20260422T131153Z
URL:https://business.edina.org/events/details/plekkenpol-builders-spring-remodelers-showcase-03-31-2023-437033
END:VEVENT

END:VCALENDAR
