BEGIN:VCALENDAR
VERSION:2.0
PRODID:-//ChamberMaster//Event Calendar 2.0//EN
METHOD:PUBLISH
X-PUBLISHED-TTL:P3D
REFRESH-INTERVAL:P3D
CALSCALE:GREGORIAN
BEGIN:VEVENT
DTSTART:20240927T170000Z
DTEND:20240929T230000Z
X-MICROSOFT-CDO-ALLDAYEVENT:FALSE
SUMMARY:Plekkenpol Builders Fall Remodelers Showcase
DESCRIPTION:Tour this home during the Fall Parade of Homes Remodelers Showcase !\n\n \n\nTour a beautifully remodeled home inspired by the owner's upbringing on a ranch in Wyoming. A narrow galley kitchen was transformed with vaulted ceilings and enlarged windows. Earthy tones and rich wood accents feel warm and comfortable. A remodeled powder bath and laundry room create a highly functional space\, with creative touches to truly personalize the home. See for yourself: When Plekkenpol Builders remodels your home\, "The Difference is in the Details." \n\n \n\nVisit www.plekkenpol.com for more information or call 952.888.2225.
X-ALT-DESC;FMTTYPE=text/html:<strong>Tour this home during the Fall Parade of Homes Remodelers Showcase&reg\;!</strong><br />\n&nbsp\;<br />\nTour a beautifully remodeled home inspired by the owner&rsquo\;s upbringing on a ranch in Wyoming. A narrow galley kitchen was transformed with vaulted ceilings and enlarged windows. Earthy tones and rich wood accents feel warm and comfortable. A remodeled powder bath and laundry room create a highly functional space\, with creative touches to truly personalize the home. See for yourself: When Plekkenpol Builders remodels your home\, <em>&ldquo\;The Difference is in the Details.&rdquo\; </em><br />\n&nbsp\;<br />\nVisit <strong>www.plekkenpol.com</strong> for more information or call 952.888.2225.
LOCATION:2810 Overlook Drive\, Bloomington\, MN 55431
UID:e.1654.437132
SEQUENCE:3
DTSTAMP:20260419T123533Z
URL:https://business.edina.org/events/details/plekkenpol-builders-fall-remodelers-showcase-437132
END:VEVENT

END:VCALENDAR
