BEGIN:VCALENDAR
VERSION:2.0
PRODID:-//ChamberMaster//Event Calendar 2.0//EN
METHOD:PUBLISH
X-PUBLISHED-TTL:P3D
REFRESH-INTERVAL:P3D
CALSCALE:GREGORIAN
BEGIN:VEVENT
DTSTART:20240116T223000Z
DTEND:20240117T000000Z
X-MICROSOFT-CDO-ALLDAYEVENT:FALSE
SUMMARY:New Year Power Hour!
DESCRIPTION:Kick off the New Year with us in our new office! We are excited to offer an opportunity for our chamber community to connect and celebrate all that is bright and shiny in 2024. \n\n\n\nOur January Power Hour is hosted by New Spaces to bring a Nordic New Year flair. Huge thank you to Think Bank for being our 2024 Series Sponsor of Power Hour!
X-ALT-DESC;FMTTYPE=text/html:Kick off the New Year with us in our new office! We are excited to offer an opportunity for our chamber community to connect and celebrate all that is bright and shiny in 2024.&nbsp\;<br />\n<br />\nOur January Power Hour is hosted by New Spaces to bring a Nordic New Year flair. Huge thank you to Think Bank for being our 2024 Series Sponsor of Power Hour!
LOCATION:Edina Chamber Office The E 7201 Metro Blvd. Edina\, MN
UID:e.1654.437091
SEQUENCE:3
DTSTAMP:20260420T014432Z
URL:https://business.edina.org/events/details/new-year-power-hour-437091
END:VEVENT

END:VCALENDAR
