BEGIN:VCALENDAR
VERSION:2.0
PRODID:-//ChamberMaster//Event Calendar 2.0//EN
METHOD:PUBLISH
X-PUBLISHED-TTL:P3D
REFRESH-INTERVAL:P3D
CALSCALE:GREGORIAN
BEGIN:VEVENT
DTSTART;VALUE=DATE:20230301
DTEND;VALUE=DATE:20230307
TRANSP:TRANSPARENT
X-MICROSOFT-CDO-ALLDAYEVENT:TRUE
SUMMARY:Minneapolis Home & Garden Show - New Spaces as Featured Presenter
DESCRIPTION:How do you renovate a Minneapolis classic-period home? Hear New Spaces present on this topic\, and others on Thursday\, March 2nd at 1 p.m.\, March 3rd at 5 p.m. and March 3rd at 2 p.m.
X-ALT-DESC;FMTTYPE=text/html:<span style="color:black\; font-family:helvetica\; font-size:11pt">How do you renovate a Minneapolis classic-period home? Hear New Spaces present on this topic\, and others on Thursday\, March 2<sup>nd</sup> at 1 p.m.\, March 3<sup>rd</sup> at 5 p.m. and March 3<sup>rd</sup> at 2 p.m.</span>
LOCATION:Minneapolis Convention Center.
UID:e.1654.437023
SEQUENCE:3
DTSTAMP:20260422T145033Z
URL:https://business.edina.org/events/details/minneapolis-home-garden-show-new-spaces-as-featured-presenter-437023
END:VEVENT

END:VCALENDAR
