BEGIN:VCALENDAR
VERSION:2.0
PRODID:-//ChamberMaster//Event Calendar 2.0//EN
METHOD:PUBLISH
X-PUBLISHED-TTL:P3D
REFRESH-INTERVAL:P3D
CALSCALE:GREGORIAN
BEGIN:VEVENT
DTSTART:20240530T141500Z
DTEND:20240531T034500Z
X-MICROSOFT-CDO-ALLDAYEVENT:FALSE
SUMMARY:Kowalski's Market Ribbon Cutting
DESCRIPTION:Kowalski's is excited to announce the grand opening of their grocery store in Edina! Join us in celebrating and welcoming them to the Edina Chamber of Commerce! \n\nKowalski's Market was created out of their family's love and passion for delicious\, healthy foods and was inspired by families looking for a place where they'd love to shop and be proud to call their own. The flow of their market is designed to be easy and convenient. The environment is relaxed and well organized. It's the kind of place you'll feel comfortable running into for a quick gift or a forgotten item. Most importantly\, it's a place where you can shop at your own pace\, mingle freely with staff and friends\, and discover something new each time you visit.\n\nWhether it's your first time shopping with them or you've been a loyal customer for years\, they promise to always do their best to make you feel like family!\n\n\n\nThe ribbon cutting will begin at 9:45am!
X-ALT-DESC;FMTTYPE=text/html:<div>\n<div itemprop="about">\n<div>\n<p>Kowalski&#39\;s is excited to announce the&nbsp\;grand opening of&nbsp\;their grocery store in Edina!&nbsp\;Join us in celebrating and welcoming them to the Edina Chamber of Commerce!&nbsp\;</p>\n\n<p><a href="https://www.kowalskis.com/">Kowalski&#39\;s Market</a>&nbsp\;was created out of their family&#39\;s love and passion for delicious\, healthy foods and was inspired by families looking for a place where they&#39\;d love to shop and be proud to call their own. The flow of their market is&nbsp\;designed to be easy and convenient. The environment is relaxed and well organized. It&#39\;s the kind of place you&#39\;ll feel comfortable running into for a quick gift or a forgotten item. Most importantly\, it&#39\;s a place where you can shop at your own pace\, mingle freely with staff and friends\, and discover something new each time you visit.</p>\n\n<p>Whether it&#39\;s your first time shopping with them or you&#39\;ve been a loyal customer for years\, they promise to always do their best to make you feel like family!<br />\n<br />\nThe ribbon cutting will begin at 9:45am!</p>\n\n<p><br />\n&nbsp\;</p>\n</div>\n</div>\n</div>\n
LOCATION:324 Southdale Center Edina\, MN 55435
UID:e.1654.437111
SEQUENCE:3
DTSTAMP:20260419T190620Z
URL:https://business.edina.org/events/details/kowalski-s-market-ribbon-cutting-437111
END:VEVENT

END:VCALENDAR
