BEGIN:VCALENDAR
VERSION:2.0
PRODID:-//ChamberMaster//Event Calendar 2.0//EN
METHOD:PUBLISH
X-PUBLISHED-TTL:P3D
REFRESH-INTERVAL:P3D
CALSCALE:GREGORIAN
BEGIN:VEVENT
DTSTART:20240411T210000Z
DTEND:20240411T220000Z
X-MICROSOFT-CDO-ALLDAYEVENT:FALSE
SUMMARY:Insight Vision Care Ribbon Cutting
DESCRIPTION:Insight Vision Care is excited to announce the opening of their office. Join us in celebrating and welcoming them to the Edina Chamber of Commerce! \n\n\n\nInsight Vision Care is a privately owned ophthalmology and optometry practice located in Edina. Their mission is to provide the best care to their patients. Dr. Jafar Hasan is fellowship trained in pediatric ophthalmology and adult strabismus. He sees patients for medical consultations and comprehensive exams. Dr. Afira Hasan sees patients for comprehensive care and contact lenses. Their eye doctors and opticians look forward to helping you with your vision care needs!
X-ALT-DESC;FMTTYPE=text/html:<span style="font-family:arial\;">Insight Vision Care is excited to announce the opening of their office.&nbsp\;Join us in celebrating and welcoming them to the Edina Chamber of Commerce!&nbsp\;<br />\n<br />\n<a href="https://insightvisionmn.com/">Insight Vision Care</a>&nbsp\;is a privately owned ophthalmology and optometry practice located in Edina. Their mission is to provide the best care to their patients.&nbsp\;Dr. Jafar Hasan&nbsp\;is fellowship trained in pediatric ophthalmology and adult strabismus. He sees patients for medical consultations and comprehensive exams.&nbsp\;Dr. Afira Hasan sees patients for comprehensive care and contact lenses. Their eye doctors and opticians look forward to helping you with your vision care needs!&nbsp\;</span><br />\n&nbsp\;
LOCATION:5266 W. 74th Street\, Edina\, 55439
UID:e.1654.437099
SEQUENCE:3
DTSTAMP:20260419T210030Z
URL:https://business.edina.org/events/details/insight-vision-care-ribbon-cutting-437099
END:VEVENT

END:VCALENDAR
