BEGIN:VCALENDAR
VERSION:2.0
PRODID:-//ChamberMaster//Event Calendar 2.0//EN
METHOD:PUBLISH
X-PUBLISHED-TTL:P3D
REFRESH-INTERVAL:P3D
CALSCALE:GREGORIAN
BEGIN:VEVENT
DTSTART;VALUE=DATE:20230203
DTEND;VALUE=DATE:20230206
TRANSP:TRANSPARENT
X-MICROSOFT-CDO-ALLDAYEVENT:TRUE
SUMMARY:Home & Remodeling Show - New Spaces Featured Presenter
DESCRIPTION:New Spaces will be a featured presenter at the 2023 Minneapolis Home & Remodeling show at U.S. Bank Stadium. Home Advisor Bjorn Freudenthal will be presenting at 5 p.m. on Friday\, Feb. 3\, and 11 a.m. both Feb. 4th and 5th.\n\n\n\nPlease contact us for free\, or discounted tickets.
X-ALT-DESC;FMTTYPE=text/html:<span style="font-family:helvetica"><span style="font-size:11pt">New Spaces will be a featured presenter at the 2023 Minneapolis Home &amp\; Remodeling show at U.S. Bank Stadium. Home Advisor Bjorn Freudenthal will be presenting at 5 p.m. on Friday\, Feb. 3\, and 11 a.m. both Feb. 4th and 5<sup>th</sup>.<br />\n<br />\nPlease contact us for free\, or discounted tickets.&nbsp\;</span></span><br />\n&nbsp\;
LOCATION:U.S. Bank Stadium
UID:e.1654.437022
SEQUENCE:3
DTSTAMP:20260422T161711Z
URL:https://business.edina.org/events/details/home-remodeling-show-new-spaces-featured-presenter-437022
END:VEVENT

END:VCALENDAR
