BEGIN:VCALENDAR
VERSION:2.0
PRODID:-//ChamberMaster//Event Calendar 2.0//EN
METHOD:PUBLISH
X-PUBLISHED-TTL:P3D
REFRESH-INTERVAL:P3D
CALSCALE:GREGORIAN
BEGIN:VEVENT
DTSTART:20230628T140000Z
DTEND:20230628T200000Z
X-MICROSOFT-CDO-ALLDAYEVENT:FALSE
SUMMARY:GrowthCLUB - Create Your Q3 Plan
DESCRIPTION:What is GrowthCLUB?\n\nGrowthCLUB is a once a quarter workshop that makes creating tactical plans for your business both educational and fun. With one day planning sessions every quarter along with monthly meetings to help you stay on course. In GrowthCLUB\, you are trained on strategies that will help you master your time\, be clear on your priorities and equip you with the mindset and tools you need to achieve your goals.\n\n\n\nREGISTER HERE TODAY!\n\n \n\nHere's how it works:\n\n\n	1 Day Planning to map out your next 90 days.\n	Hear from valuable speakers talk about growing trends\, common business struggles and how to overcome them\, and much more.\n	Access to an ActionCOACH Business Coach throughout the entire day.\n	Learn from the strategies implemented in other businesses.\n	Broaden your sphere of contacts by networking with other business owners in your area.\n\n\nDuring this high energy day\, you will:\n\n\n	Create a 90 day plan for Q3 2023.\n	Take control & get organized.\n	Learn proven profit strategies.\n\n\nBy the end of this action-packed day\, you will have a clear focus on where your business will be after 90 days as well as a plan to get you there\, so what are you waiting for?\n\n\n\nREGISTER HERE TODAY!
X-ALT-DESC;FMTTYPE=text/html:<p><strong>What is GrowthCLUB?</strong></p>\n\n<p>GrowthCLUB is a once a quarter workshop that makes creating tactical plans for your business both educational and fun. With one day planning sessions every quarter along with monthly meetings to help you stay on course. In GrowthCLUB\, you are trained on strategies that will help you master your time\, be clear on your priorities and equip you with the mindset and tools you need to achieve your goals.<br />\n<br />\n<a href="https://www.eventbrite.com/e/actioncoach-growthclub-create-your-2023-q3-plan-tickets-641412220217">REGISTER HERE TODAY!</a><br />\n&nbsp\;</p>\n\n<p><strong>Here&rsquo\;s how it works:</strong></p>\n\n<ul>\n	<li>1 Day Planning to map out your next 90 days.</li>\n	<li>Hear from valuable speakers talk about growing trends\, common business struggles and how to overcome them\, and much more.</li>\n	<li>Access to an ActionCOACH Business Coach throughout the entire day.</li>\n	<li>Learn from the strategies implemented in other businesses.</li>\n	<li>Broaden your sphere of contacts by networking with other business owners in your area.</li>\n</ul>\n\n<p><strong>During this high energy day\, you will:</strong></p>\n\n<ul>\n	<li>Create a 90 day plan for Q3 2023.</li>\n	<li>Take control &amp\; get organized.</li>\n	<li>Learn proven profit strategies.</li>\n</ul>\n\n<p><strong>By the end of this action-packed day\, you will have a clear focus on where your business will be after 90 days as well as a plan to get you there\, so what are you waiting for?</strong><br />\n<br />\n<a href="https://www.eventbrite.com/e/actioncoach-growthclub-create-your-2023-q3-plan-tickets-641412220217">REGISTER HERE TODAY!</a><br />\n&nbsp\;</p>\n
LOCATION:MN State University - Extended Campus 7700 France Avenue South Edina\, MN 55435
UID:e.1654.437049
SEQUENCE:3
DTSTAMP:20260422T102704Z
URL:https://business.edina.org/events/details/growthclub-create-your-q3-plan-437049
END:VEVENT

END:VCALENDAR
