BEGIN:VCALENDAR
VERSION:2.0
PRODID:-//ChamberMaster//Event Calendar 2.0//EN
METHOD:PUBLISH
X-PUBLISHED-TTL:P3D
REFRESH-INTERVAL:P3D
CALSCALE:GREGORIAN
BEGIN:VEVENT
DTSTART;VALUE=DATE:20230330
DTEND;VALUE=DATE:20230403
TRANSP:TRANSPARENT
X-MICROSOFT-CDO-ALLDAYEVENT:TRUE
SUMMARY:Frozen Jr. Musical Production- International School of Minnesota
DESCRIPTION:Attend the student production of Frozen Jr. at the International School of Minnesota featuring a Cast and Crew of 34!\n\nShow dates and times:  March 30\, 7 p.m.\; March 31\, 7 p.m. April 1\, 2 p.m.\; April 1\, 7 p.m.\; and April 2\, 2 p.m.\n\nTo learn more and purchase tickets\, CLICK HERE
X-ALT-DESC;FMTTYPE=text/html:Attend the student production of Frozen Jr. at the International School of Minnesota featuring a Cast and Crew of 34!<br />\nShow dates and times:&nbsp\; March 30\, 7 p.m.\; March 31\, 7 p.m. April 1\, 2 p.m.\; April 1\, 7 p.m.\; and April 2\, 2 p.m.<br />\nTo learn more and purchase tickets\, <a href="https://sabisschools.sabis.net/frozenjrtickets">CLICK HERE</a><br />\n<br />\n&nbsp\;
LOCATION:International School of Minnesota 6385 Beach Road Eden Prairie\, MN 55344
UID:e.1654.437039
SEQUENCE:3
DTSTAMP:20260422T131323Z
URL:https://business.edina.org/events/details/frozen-jr-musical-production-international-school-of-minnesota-437039
END:VEVENT

END:VCALENDAR
