BEGIN:VCALENDAR
VERSION:2.0
PRODID:-//ChamberMaster//Event Calendar 2.0//EN
METHOD:PUBLISH
X-PUBLISHED-TTL:P3D
REFRESH-INTERVAL:P3D
CALSCALE:GREGORIAN
BEGIN:VEVENT
DTSTART:20240515T173000Z
DTEND:20240515T183000Z
X-MICROSOFT-CDO-ALLDAYEVENT:FALSE
SUMMARY:First Bank & Trust Ribbon Cutting
DESCRIPTION:First Bank & Trust is excited to announce the opening of their new branch in Edina! Join us in celebrating and welcoming them to the Edina Chamber of Commerce and the Edina Community!\n\nWith a family-friendly culture and a community focus\, First Bank & Trust are committed to providing their employees and customers with a rewarding experience. This local bank puts people first\, and promote enjoying a fulfilling career.\nRibbon Cutting Ceremony begins at 12:30pm.
X-ALT-DESC;FMTTYPE=text/html:<p color:="" helvetica="">First Bank &amp\; Trust is excited to announce the opening of their new branch in Edina! Join us in celebrating and welcoming them to the Edina Chamber of Commerce and the Edina Community!</p>\n\n<p color:="" helvetica="">With a family-friendly culture and a community focus\, First Bank &amp\; Trust are committed to providing their employees and customers with a rewarding experience. This local bank puts people first\, and promote enjoying a fulfilling career.</p>\nRibbon Cutting Ceremony begins at 12:30pm.
LOCATION:
UID:e.1654.437097
SEQUENCE:3
DTSTAMP:20260419T190539Z
URL:https://business.edina.org/events/details/first-bank-trust-ribbon-cutting-437097
END:VEVENT

END:VCALENDAR
