BEGIN:VCALENDAR
VERSION:2.0
PRODID:-//ChamberMaster//Event Calendar 2.0//EN
METHOD:PUBLISH
X-PUBLISHED-TTL:P3D
REFRESH-INTERVAL:P3D
CALSCALE:GREGORIAN
BEGIN:VEVENT
DTSTART:20240529T170000Z
DTEND:20240529T180000Z
X-MICROSOFT-CDO-ALLDAYEVENT:FALSE
SUMMARY:Extract Juicery Ribbon Cutting
DESCRIPTION:Extract Juicery is excited to announce the opening of their organic cafe here in Edina! Join us in celebrating and welcoming them to the Edina Chamber of Commerce! All Chamber members who attend will receive 20% off their food and beverage!\n\n\n\nExtract Juicery is dedicated to empowering people to experience their most active\, inspired\, vibrant lives. We are devoted to making wellbeing accessible - and enjoyable - for all. We're here to give you the tools\, knowledge\, and encouragement to reach your most optimal body\, mind\, and soul health\, one cold-pressed\, organic juice at a time.
X-ALT-DESC;FMTTYPE=text/html:<span style="color:#000000\;"><span style="font-size:16px\;"><span style="font-family:arial\;"><span style="letter-spacing: 0.5px\;">Extract Juicery is excited to announce the opening of their organic cafe here in Edina! Join us in celebrating and welcoming them to the Edina Chamber of Commerce! All Chamber members who attend will receive 20% off their food and beverage!</span><br />\n<br />\n<span style="text-align: center\;">Extract Juicery is dedicated to empowering people to experience their most active\, inspired\, vibrant lives. We are devoted to making wellbeing accessible - and enjoyable - for all. We&#39\;re here to give you the tools\, knowledge\, and encouragement to reach your most optimal body\, mind\, and soul health\, one cold-pressed\, organic juice at a time.</span></span></span></span>
LOCATION:3943 Market St\, Edina\, MN 55424
UID:e.1654.437110
SEQUENCE:3
DTSTAMP:20260419T205140Z
URL:https://business.edina.org/events/details/extract-juicery-ribbon-cutting-437110
END:VEVENT

END:VCALENDAR
