BEGIN:VCALENDAR
VERSION:2.0
PRODID:-//ChamberMaster//Event Calendar 2.0//EN
METHOD:PUBLISH
X-PUBLISHED-TTL:P3D
REFRESH-INTERVAL:P3D
CALSCALE:GREGORIAN
BEGIN:VEVENT
DTSTART:20240717T210000Z
DTEND:20240717T220000Z
X-MICROSOFT-CDO-ALLDAYEVENT:FALSE
SUMMARY:ETS Performance Ribbon Cutting
DESCRIPTION:ETS Performance is excited to announce the opening of their Edina location! Join us in celebrating and welcoming them to the Edina Chamber and Edina community! \nSince 2010\, ETS has developed and successfully implemented innovative training systems that have yielded exceptional results for thousands of athletes at various levels\, including youth\, high school\, collegiate\, professional\, and Olympic. These systems\, created through extensive research and the integration of unique ETS methods with components from renowned performance specialists\, are customized to suit athletes of any age\, sport\, or ability. ETS has produced over 2\,500 D1/D2/D3 athletes\, more than 200 professionals\, and over 50\,000 athletes in total across sports like football\, hockey\, basketball\, softball\, soccer\, baseball\, lacrosse\, and swimming. Drawing national and global attention\, ETS has attracted numerous professional athletes. With a commitment to expanding the ETS brand while maintaining its quality and individualized approach\, the mission is to bring 'serious results' in performance training to a broader audience across the country.\n\n\n\n"At ETS every athlete will experience a next-level training atmosphere that can't be matched and is equally focused on character development\, accountability and competition as we deliver next level performance results. Every ETS athlete will leave each session understanding the physical objective for that session\, but also understand the importance of consistency\, dedication and commitment to ensure they are maximizing their results."\n\n\n\nThe ribbon cutting will take place at 4:30pm followed by a grand opening at 6:00pm!
X-ALT-DESC;FMTTYPE=text/html:ETS Performance is excited to announce the opening of their Edina location! Join us in celebrating and welcoming them to the Edina Chamber and Edina community!&nbsp\;\n<p>Since 2010\, <a href="https://www.etsperformance.com/">ETS</a> has developed and successfully implemented innovative training systems that have yielded exceptional results for thousands of athletes at various levels\, including youth\, high school\, collegiate\, professional\, and Olympic. These systems\, created through extensive research and the integration of unique ETS methods with components from renowned performance specialists\, are customized to suit athletes of any age\, sport\, or ability. ETS has produced over 2\,500 D1/D2/D3 athletes\, more than 200 professionals\, and over 50\,000 athletes in total across sports like football\, hockey\, basketball\, softball\, soccer\, baseball\, lacrosse\, and swimming. Drawing national and global attention\, ETS has attracted numerous professional athletes. With a commitment to expanding the ETS brand while maintaining its quality and individualized approach\, the mission is to bring &#39\;serious results&#39\; in performance training to a broader audience across the country.<br />\n<br />\n<em>&ldquo\;At ETS every athlete will experience a next-level training atmosphere that can&rsquo\;t be matched and is equally focused on character development\, accountability and competition as we deliver next level performance results. Every ETS athlete will leave each session understanding the physical objective for that session\, but also understand the importance of consistency\, dedication and commitment to ensure they are maximizing their results.&rdquo\;<br />\n<br />\n<strong>The ribbon cutting will take place at 4:30pm followed by a grand opening at 6:00pm!&nbsp\;</strong></em></p>\n
LOCATION:5265 Edina Industrial Blvd\, Edina
UID:e.1654.437124
SEQUENCE:3
DTSTAMP:20260419T153853Z
URL:https://business.edina.org/events/details/ets-performance-ribbon-cutting-437124
END:VEVENT

END:VCALENDAR
