BEGIN:VCALENDAR
VERSION:2.0
PRODID:-//ChamberMaster//Event Calendar 2.0//EN
METHOD:PUBLISH
X-PUBLISHED-TTL:P3D
REFRESH-INTERVAL:P3D
CALSCALE:GREGORIAN
BEGIN:VEVENT
DTSTART:20240502T220000Z
DTEND:20240503T003000Z
X-MICROSOFT-CDO-ALLDAYEVENT:FALSE
SUMMARY:Edina Shark Tank 2024
DESCRIPTION:On May 2nd\, The Edina Chamber and Edina Public School District are thrilled to announce a chance to champion innovation in Edina and support the talented cohort of young entrepreneurs at Edina High School.\n\nNow in its 4th year\, we are presenting Edina's unique take on ABC Network's Shark Tank. The Edina Shark Tank offers EHS students the platform to present their classroom-developed entrepreneurship projects to a panel of "Sharks\," vying for cash prizes and the prestigious title of Edina Shark Tank Champion.\n\nIn collaboration with Edina High School\, The Edina Innovation Lab\, and local entrepreneurs\, business professionals\, and investors\, the Edina Chamber is delighted to facilitate this compelling opportunity. We take pride in contributing to an event that opens doors for the upcoming generation of Edina residents\, who will soon make valuable contributions to our business community!\n\n\n\nOur Sharks: Annette Wildenauer\, Tomme Beevas\, and Patrick E. Donohue.\n\n\n\nAnnette Wildenauer\, Chief Innovation O cer at Edina Innovation Lab. Annette guides established businesses on a path to greater ful llment. She has built her career on moving organizations from the status quo to a place of success\, and feels that her purpose is to lead and facilitate growth. \n\n\n\nTomme Beevas\, Founder and Chief Strategic Officer of Pimento Jamaican Kitchen. Tomme spearheads the company's ambitious growth strategy to establish itself as the premier provider of authentic Jamaican culinary experiences worldwide.\n\n\n\nPatrick E. Donohue\, Managing Partner & CEO of Hill Capital Corporation. He has carved a niche in finance with over two decades of experience. At Hill Capital\, he directs investments into growth-oriented small businesses\, demonstrating a keen acumen in cash forecasting and valuations.\n\nSponsorship opportunities are available\, please reach out to caitlyn@edina.org for more information!\n\n\n\nEVENT SCHEDULE\n\n5:00PM - Registration & Sponsor Pop-Up\n\n5:30PM - Welcome\n\n                Student Pitches\n\n                Teacher of the Year Award\n\n                 2024 Shark Tank Champion\n\n                 Event Concludes\n\n\n\nSpecial thanks to the wildly popular ABC television show Shark TankTM for encouraging all of us to think big. Shark TankTM is a registered trademark of Sony Pictures Television and is not associated with the Edina Shark Tank.
X-ALT-DESC;FMTTYPE=text/html:<p color:="" helvetica=""><span style="font-family:arial\;">On May 2nd\, The Edina Chamber and Edina Public School District are thrilled to announce a chance to champion innovation in Edina and support the talented cohort of young entrepreneurs at Edina High School.</span></p>\n\n<p color:="" helvetica=""><span style="font-family:arial\;">Now in its 4th year\, we are presenting Edina&#39\;s unique take on ABC Network&#39\;s Shark Tank. The Edina Shark Tank offers EHS students the platform to present their classroom-developed entrepreneurship projects to a panel of &quot\;Sharks\,&quot\; vying for cash prizes and the prestigious title of Edina Shark Tank Champion.</span></p>\n\n<p color:="" helvetica=""><span style="font-family:arial\;">In collaboration with Edina High School\, The Edina Innovation Lab\, and local entrepreneurs\, business professionals\, and investors\, the Edina Chamber is delighted to facilitate this compelling opportunity. We take pride in contributing to an event that opens doors for the upcoming generation of Edina residents\, who will soon make valuable contributions to our business community!<br />\n<br />\nOur Sharks: Annette Wildenauer\, Tomme Beevas\, and Patrick E. Donohue.<br />\n<br />\nAnnette Wildenauer\, Chief Innovation O&#64259\;cer at Edina Innovation Lab. Annette guides established businesses on a path to greater ful&#64257\;llment. She has built her career on moving organizations from the status quo to a place of success\, and feels that her purpose is to lead and facilitate growth.&nbsp\;<br />\n<br />\nTomme Beevas\, Founder and Chief Strategic Officer of Pimento Jamaican Kitchen. Tomme spearheads the company&#39\;s ambitious growth strategy to establish itself as the premier provider of authentic Jamaican culinary experiences worldwide.<br />\n<br />\nPatrick E. Donohue\, Managing Partner &amp\; CEO of Hill Capital Corporation. He has carved a niche in finance with over two decades of experience. At Hill Capital\, he directs investments into growth-oriented small businesses\, demonstrating a keen acumen in cash forecasting and valuations.</span></p>\n\n<p color:="" helvetica=""><span style="font-family:arial\;">Sponsorship opportunities are available\, please reach out to caitlyn@edina.org for more information!<br />\n<br />\nEVENT SCHEDULE<br />\n5:00PM - Registration &amp\; Sponsor Pop-Up<br />\n5:30PM -&nbsp\;Welcome<br font-size:="" new="" times="" />\n&nbsp\; &nbsp\; &nbsp\; &nbsp\; &nbsp\; &nbsp\; &nbsp\; &nbsp\; Student Pitches<br font-size:="" new="" times="" />\n&nbsp\; &nbsp\; &nbsp\; &nbsp\; &nbsp\; &nbsp\; &nbsp\; &nbsp\; Teacher of the Year Award<br font-size:="" new="" times="" />\n&nbsp\; &nbsp\; &nbsp\; &nbsp\; &nbsp\; &nbsp\; &nbsp\; &nbsp\; &nbsp\;2024&nbsp\;Shark Tank Champion<br />\n&nbsp\;&nbsp\;&nbsp\;&nbsp\;&nbsp\;&nbsp\;&nbsp\;&nbsp\;&nbsp\;&nbsp\;&nbsp\;&nbsp\;&nbsp\;&nbsp\;&nbsp\;&nbsp\;&nbsp\;Event Concludes<br />\n<br />\n<span style="color:#A9A9A9\;"><span style="font-size:12px\;">Special thanks to the wildly popular ABC television show Shark TankTM&nbsp\;for encouraging all of us to think big. Shark TankTM&nbsp\;is a registered trademark of Sony Pictures Television and is not associated with the Edina Shark Tank.</span></span></span><br />\n&nbsp\;</p>\n
LOCATION:
UID:e.1654.437103
SEQUENCE:3
DTSTAMP:20260419T190421Z
URL:https://business.edina.org/events/details/edina-shark-tank-2024-437103
END:VEVENT

END:VCALENDAR
