BEGIN:VCALENDAR
VERSION:2.0
PRODID:-//ChamberMaster//Event Calendar 2.0//EN
METHOD:PUBLISH
X-PUBLISHED-TTL:P3D
REFRESH-INTERVAL:P3D
CALSCALE:GREGORIAN
BEGIN:VEVENT
DTSTART:20230504T223000Z
DTEND:20230505T003000Z
X-MICROSOFT-CDO-ALLDAYEVENT:FALSE
SUMMARY:Edina Shark Tank 2023
DESCRIPTION:The Edina Chamber and Edina Public School District are excited to announce an opportunity to support innovation in Edina and the talented group of young entrepreneurs at Edina High School. \n\n \n\nFor the 3rd year\, we are hosting Edina's take on ABC Network's Shark Tank. Edina Shark Tank will provide EHS students the opportunity to pitch their classroom prepared entrepreneurship project to a group of "Sharks" to compete for cash prizes and the title of Edina Shark Tank Champion. \n\n \n\nThe Edina Chamber has partnered with Edina High School\, The Edina Innovation Lab and local entrepreneurs\, business folks and investors to create this exciting opportunity. We are proud to be part of an event where we are creating opportunities for the younger generation of Edina residents who will be contributing to our business community before we know it!\n\n\n\nEVENT SCHEDULE\n\n5:30PM - Registration \n\n                Welcome\n\n                Student Pitches\n\n                 Teacher of the Year Award\n\n                 2023 Shark Tank Champion\n\n                 Event Concludes\n\n\n\nSpecial thanks to the wildly popular ABC television show Shark TankTM for encouraging all of us to think big. Shark TankTM is a registered trademark of Sony Pictures Television and is not associated with the Edina Shark Tank.\n\n \n\nContact Caitlyn@edina.org for more information.
X-ALT-DESC;FMTTYPE=text/html:<br />\n<br />\n<span style="color:#212121\;"><span style="font-family:arial\,sans-serif\;"><span style="font-size:10.5pt\;">The Edina Chamber and Edina Public School District are excited to announce an opportunity to support innovation in Edina and the talented group of young entrepreneurs at Edina High School. </span></span></span><br />\n&nbsp\;<br />\n<span style="color:#212121\;"><span style="font-family:arial\,sans-serif\;"><span style="font-size:10.5pt\;">For the 3rd year\, we are hosting Edina&#39\;s take on ABC Network&#39\;s Shark Tank. Edina Shark Tank will provide EHS students the opportunity to pitch their classroom prepared entrepreneurship project to a group of &quot\;Sharks&quot\; to compete for cash prizes and the title of Edina Shark Tank Champion. </span></span></span><br />\n&nbsp\;<br />\n<span style="color:#22293D\;"><span style="font-family:arial\,sans-serif\;"><span style="font-size:10.5pt\;">The Edina Chamber has partnered with Edina High School\, The Edina Innovation Lab and local entrepreneurs\, business folks and investors to create</span></span></span><span style="color:black\;"><span style="font-family:arial\,sans-serif\;"><span style="font-size:10.5pt\;"> this exciting opportunity.&nbsp\;</span></span></span><span style="color:#22293D\;"><span style="font-family:arial\,sans-serif\;"><span style="font-size:10.5pt\;">We are proud to be part of an event where we are creating opportunities for the younger generation of Edina residents who will be contributing to our business community before we know it!<br />\n<br />\n<u><strong>EVENT SCHEDULE</strong></u></span></span></span><br />\n<span font-size:="" new="" style="color: rgb(0\, 0\, 0)\; font-family: " times="">5:30PM - Registration&nbsp\;</span><br font-size:="" new="" style="color: rgb(0\, 0\, 0)\; font-family: " times="" />\n&nbsp\;&nbsp\;&nbsp\;&nbsp\;&nbsp\;&nbsp\;&nbsp\;&nbsp\;&nbsp\;&nbsp\;&nbsp\;&nbsp\;&nbsp\;&nbsp\;&nbsp\;&nbsp\;<span font-size:="" new="" style="color: rgb(0\, 0\, 0)\; font-family: " times="">Welcome</span><br font-size:="" new="" style="color: rgb(0\, 0\, 0)\; font-family: " times="" />\n<span font-size:="" new="" style="color: rgb(0\, 0\, 0)\; font-family: " times="">&nbsp\; &nbsp\; &nbsp\; &nbsp\; &nbsp\; &nbsp\; &nbsp\; &nbsp\; Student Pitches</span><br font-size:="" new="" style="color: rgb(0\, 0\, 0)\; font-family: " times="" />\n<span font-size:="" new="" style="color: rgb(0\, 0\, 0)\; font-family: " times="">&nbsp\; &nbsp\; &nbsp\; &nbsp\; &nbsp\; &nbsp\; &nbsp\; &nbsp\; &nbsp\;Teacher of the Year Award</span><br font-size:="" new="" style="color: rgb(0\, 0\, 0)\; font-family: " times="" />\n<span font-size:="" new="" style="color: rgb(0\, 0\, 0)\; font-family: " times="">&nbsp\; &nbsp\; &nbsp\; &nbsp\; &nbsp\; &nbsp\; &nbsp\; &nbsp\; &nbsp\;2023 Shark Tank Champion</span><br />\n&nbsp\;&nbsp\;&nbsp\;&nbsp\;&nbsp\;&nbsp\;&nbsp\;&nbsp\;&nbsp\;&nbsp\;&nbsp\;&nbsp\;&nbsp\;&nbsp\;&nbsp\;&nbsp\;&nbsp\;<span font-size:="" new="" style="color: rgb(0\, 0\, 0)\; font-family: " times="">Event Concludes</span><br />\n<br />\n<span style="font-size:14px\;"><em>Special thanks to the wildly popular ABC television show Shark Tank<sup>TM </sup>for encouraging all of us to think big. Shark Tank<sup>TM </sup>is a registered trademark of Sony Pictures Television and is not associated with the Edina Shark Tank.</em></span><br />\n&nbsp\;<br />\n<span style="color:#403F42\;"><span style="font-family:arial\,sans-serif\;"><span style="font-size:10.5pt\;">Contact </span></span></span><span style="color:#403F42\;"><span style="font-family:arial\,sans-serif\;"><span style="font-size:9.0pt\;"><a href="mailto:Caitlyn@edina.org" target="_blank"><strong><span style="color:#387B37\;"><span style="font-size:10.5pt\;">Caitlyn@edina.org</span></span></strong></a></span></span></span><span style="color:#403F42\;"><span style="font-family:arial\,sans-serif\;"><span style="font-size:10.5pt\;"> for more information.</span></span></span>
LOCATION:Edina Performing Arts Center Edina High School
UID:e.1654.437021
SEQUENCE:3
DTSTAMP:20260422T113824Z
URL:https://business.edina.org/events/details/edina-shark-tank-2023-437021
END:VEVENT

END:VCALENDAR
