BEGIN:VCALENDAR
VERSION:2.0
PRODID:-//ChamberMaster//Event Calendar 2.0//EN
METHOD:PUBLISH
X-PUBLISHED-TTL:P3D
REFRESH-INTERVAL:P3D
CALSCALE:GREGORIAN
BEGIN:VEVENT
DTSTART:20230524T200000Z
DTEND:20230524T223000Z
X-MICROSOFT-CDO-ALLDAYEVENT:FALSE
SUMMARY:Business Education Seminar: Building a Business that WORKS!
DESCRIPTION:Are you ready to take your business to the next level?\n\n\n\nJoin us as we guide you through the 6 Steps to Build Your Business and help you discover which steps you've already mastered and what your next phase of business is asking from you.\n\n\n\nSpace is Limited Register: HERE\n\n\n\nDuring the event\, we'll cover the foundational aspects of business\, including marketing\, sales\, operations\, team building\, and key financial numbers\, as well as your mindset. You'll learn how to gain control of your time\, team\, and money\, plan in an ever-changing environment\, and turn your marketing into an investment rather than an expense.\n\n\n\nWe'll delve into the secrets of successful business owners and their time-tested principles to help you navigate threats\, manage emotions\, and stay focused on what really matters. You'll learn how to multiply your customers\, revenue\, and profits\, balance short-term challenges and mid-range impacts with long-term goals\, and leverage your team\, systems\, technology\, and marketing to create a profitable company culture.\n\n\n\nDon't miss this opportunity to take your business to the next level and plan for a successful exit. Register now and make this your turning point.\n\n\n\n\n\n**We will also be hosting a Happy Hour immediately following the event across the street at Tavern 23 for continued networking and conversation.\n\n\n\nSpace is Limited Register: HERE
X-ALT-DESC;FMTTYPE=text/html:<p><!--?xml version="1.0" encoding="UTF-8"?--></p>\n\n<div>\n<div>\n<div><span style="font-size:14px"><span style="font-family:arial">Are you ready to take your business to the next level?</span></span></div>\n\n<div><br />\n<span style="font-size:14px">Join us as we guide you through the&nbsp\;6 Steps to Build Your Business&nbsp\;and help you discover which steps you&#39\;ve already mastered and what your next phase of business is asking from you.</span></div>\n\n<div><br />\n<span style="font-size:14px"><span style="font-family:arial">Space is Limited Register:</span> <a href="https://www.eventbrite.com/e/business-education-seminar-building-a-business-that-works-tickets-626436667937" style="line-height: 1.5rem\; font-family: Arial\; font-size: 16px\; color: rgb(111\, 114\, 135)\;">HERE</a></span></div>\n\n<div><br />\n<span style="font-size:14px"><span style="font-family:arial">During the event\, we&#39\;ll cover the foundational aspects of business\, including marketing\, sales\, operations\, team building\, and key financial numbers\, as well as your mindset. You&#39\;ll learn how to gain control of your time\, team\, and money\, plan in an ever-changing environment\, and turn your marketing into an investment rather than an expense.</span></span></div>\n\n<div><br />\n<span style="font-size:14px"><span style="font-family:arial">We&#39\;ll delve into the secrets of successful business owners and their time-tested principles to help you navigate threats\, manage emotions\, and stay focused on what really matters. You&#39\;ll learn how to multiply your customers\, revenue\, and profits\, balance short-term challenges and mid-range impacts with long-term goals\, and leverage your team\, systems\, technology\, and marketing to create a profitable company culture.</span></span></div>\n\n<div><br />\n<span style="font-size:14px"><span style="font-family:arial">Don&#39\;t miss this opportunity to take your business to the next level and plan for a successful exit. Register now and make this your turning point.</span></span></div>\n</div>\n</div>\n\n<div><br />\n<span style="font-size:14px"><span style="font-family:arial">**We will also be hosting a Happy Hour immediately following the event across the street at Tavern 23 for continued networking and conversation.<br />\n<br />\nSpace is Limited Register:</span>&nbsp\;<a href="https://www.eventbrite.com/e/business-education-seminar-building-a-business-that-works-tickets-626436667937" style="color: rgb(111\, 114\, 135)\; line-height: 1.5rem\; font-family: Arial\; font-size: 16px\;">HERE</a></span></div>\n
LOCATION:MN State University - Extended Campus 7700 France Avenue South Edina\, MN 55435
UID:e.1654.437044
SEQUENCE:3
DTSTAMP:20260422T114036Z
URL:https://business.edina.org/events/details/business-education-seminar-building-a-business-that-works-05-24-2023-437044
END:VEVENT

END:VCALENDAR
