BEGIN:VCALENDAR
VERSION:2.0
PRODID:-//ChamberMaster//Event Calendar 2.0//EN
METHOD:PUBLISH
X-PUBLISHED-TTL:P3D
REFRESH-INTERVAL:P3D
CALSCALE:GREGORIAN
BEGIN:VEVENT
DTSTART:20240303T000000Z
DTEND:20240303T020000Z
X-MICROSOFT-CDO-ALLDAYEVENT:FALSE
SUMMARY:A2D Academy Empty Bowls Event / Charity Gala
DESCRIPTION:This is the conclusion of the A2D academy students community service projects. The students wanted to feed the hungry in their community. To do this they are hosting an empty bowls event where donation will buy a ceramic bowl made by the students for you to take home\, and receive a snack of pasta as well. \n\n\n\nThere will also be a silent auction of items donated by local businesses to help raise money to grow and support A2D academy.
X-ALT-DESC;FMTTYPE=text/html:This is the conclusion of the A2D academy students community service projects. The students wanted to feed the hungry in their community. To do this they are hosting an empty bowls event where donation will buy a ceramic bowl made by the students for you to take home\, and receive a snack of pasta as well.&nbsp\;<br />\n<br />\nThere will also be a silent auction of items donated by local businesses to help raise money to grow and support A2D academy.&nbsp\;
LOCATION:Church of St Patricks - Edina 3820 St Patricks Lane Edina\, MN 55439
UID:e.1654.437101
SEQUENCE:3
DTSTAMP:20260419T223632Z
URL:https://business.edina.org/events/details/a2d-academy-empty-bowls-event-charity-gala-437101
END:VEVENT

END:VCALENDAR
