BEGIN:VCALENDAR
VERSION:2.0
PRODID:-//ChamberMaster//Event Calendar 2.0//EN
METHOD:PUBLISH
X-PUBLISHED-TTL:P3D
REFRESH-INTERVAL:P3D
CALSCALE:GREGORIAN
BEGIN:VEVENT
DTSTART:20230112T170000Z
DTEND:20230112T190000Z
X-MICROSOFT-CDO-ALLDAYEVENT:FALSE
SUMMARY:6 Steps to Building a Better Business
DESCRIPTION:LUNCH & LEARN: Do you want to make more money? Do you want control of your time? Do you want to find and keep good people on your team?\n\n \n\nMost Business Owners we meet in the Twin Cities are working 60\, 70\, even 80+ hours a week in their business\, just to be sure to have food on the table for their families and the families of their employees. They have team members who are leaving faster than they can be hired\, and customers are not returning as quickly as you'd like. You're working harder than ever before and taking home less profit\, too. Sound familiar?\n\nYou're not alone\, and Business Ownership doesn't have to be this way. You started a business because you knew you could be successful. You can\, and the ActionCOACH team is going to present a simple guide to having that success you've always dreamed of. Learn the 6 key ways that you can boost your business and walk away with tools you can use right away. We guarantee that this will be an hour well spent.\n\n\n\nREGISTER: HERE\n\nIn this LIVE\, INTERACTIVE seminar\, participants will walk away with tools to grow their business right away.
X-ALT-DESC;FMTTYPE=text/html:<p><strong><span style="color:rgb(57\, 54\, 79)\; font-family:neue plak\,-apple-system\,system-ui\,roboto\,helvetica neue\,helvetica\,tahoma\,arial\,sans-serif\; font-size:14px">LUNCH &amp\; LEARN: Do you want to make more money? Do you want control of your time? Do you want to find and keep good people on your team?</span></strong><br />\n&nbsp\;</p>\n\n<p>Most Business Owners we meet in the Twin Cities are working 60\, 70\, even 80+ hours a week in their business\, just to be sure to have food on the table for their families and the families of their employees. They have team members who are leaving faster than they can be hired\, and customers are not returning as quickly as you&#39\;d like. You&rsquo\;re working harder than ever before and taking home less profit\, too. Sound familiar?</p>\n\n<p>You&#39\;re not alone\, and Business Ownership doesn&#39\;t have to be this way. You started a business because you knew you could be successful. You can\, and the ActionCOACH team is going to present a simple guide to having that success you&#39\;ve always dreamed of. Learn the 6 key ways that you can boost your business and walk away with tools you can use right away. We guarantee that this will be an hour well spent.<br />\n<br />\n<strong><!--?xml version="1.0" encoding="UTF-8"?-->REGISTER:&nbsp\;<a href="https://www.eventbrite.com/e/6-steps-to-building-a-better-business-tickets-487247278727">HERE</a></strong></p>\n\n<p>In this LIVE\, INTERACTIVE seminar\, participants will walk away with tools to grow their business right away.</p>\n
LOCATION:7760 France Avenue South 2nd Floor Training Room Bloomington\, MN 55435
UID:e.1654.437016
SEQUENCE:3
DTSTAMP:20260422T174643Z
URL:https://business.edina.org/events/details/6-steps-to-building-a-better-business-437016
END:VEVENT

END:VCALENDAR
