BEGIN:VCALENDAR
VERSION:2.0
PRODID:-//ChamberMaster//Event Calendar 2.0//EN
METHOD:PUBLISH
X-PUBLISHED-TTL:P3D
REFRESH-INTERVAL:P3D
CALSCALE:GREGORIAN
BEGIN:VEVENT
DTSTART:20231115T140000Z
DTEND:20231115T153000Z
X-MICROSOFT-CDO-ALLDAYEVENT:FALSE
SUMMARY:6 Steps to Building a Better Business
DESCRIPTION:Most business owners we meet in the Twin Cities are working 60\, 70\, even 80+ hours a week in their business\, just to be sure to have food on the table for their families and the families of their employees. They have team members who are leaving faster than they can be hired\, and customers are not returning as quickly as you'd like. You're working harder than ever before and taking home less profit\, too. Sound familiar?\n\n \n\nYou're not alone\, and Business Ownership doesn't have to be this way. You started a business because you knew you could be successful. You can\, and the ActionCOACH team is going to present a simple guide to having that success you've always dreamed of. Learn the 6 key ways that you can boost your business and walk away with tools you can use right away. We guarantee that this will be an hour well spent.\n\n \n\nIn this LIVE\, INTERACTIVE seminar\, participants will walk away with tools to grow their business right away.\n\n \n\n*?A Zoom link will be sent out prior to the event.
X-ALT-DESC;FMTTYPE=text/html:<p>Most business owners we meet in the Twin Cities are working 60\, 70\, even 80+ hours a week in their business\, just to be sure to have food on the table for their families and the families of their employees. They have team members who are leaving faster than they can be hired\, and customers are not returning as quickly as you&#39\;d like. You&rsquo\;re working harder than ever before and taking home less profit\, too. Sound familiar?</p>\n\n<p>&nbsp\;</p>\n\n<p>You&#39\;re not alone\, and Business Ownership doesn&#39\;t have to be this way. You started a business because you knew you could be successful. You can\, and the ActionCOACH team is going to present a simple guide to having that success you&#39\;ve always dreamed of. Learn the 6 key ways that you can boost your business and walk away with tools you can use right away. We guarantee that this will be an hour well spent.</p>\n\n<p>&nbsp\;</p>\n\n<p>In this LIVE\, INTERACTIVE seminar\, participants will walk away with tools to grow their business right away.</p>\n\n<p>&nbsp\;</p>\n\n<p>*?A Zoom link will be sent out prior to the event.</p>\n
LOCATION:Online
UID:e.1654.437076
SEQUENCE:3
DTSTAMP:20260420T044545Z
URL:https://business.edina.org/events/details/6-steps-to-building-a-better-business-11-15-2023-437076
END:VEVENT

END:VCALENDAR
