BEGIN:VCALENDAR
VERSION:2.0
PRODID:-//ChamberMaster//Event Calendar 2.0//EN
METHOD:PUBLISH
X-PUBLISHED-TTL:P3D
REFRESH-INTERVAL:P3D
CALSCALE:GREGORIAN
BEGIN:VEVENT
DTSTART:20241115T133000Z
DTEND:20241115T150000Z
X-MICROSOFT-CDO-ALLDAYEVENT:FALSE
SUMMARY:2024 Sunrise Edina Business Breakfast - November
DESCRIPTION:Speaker: Jana Cinnamon\n\nJoin us to hear from Jana Cinnamon\, Chief Operating Officer at Abdo\, our 2024 series sponsor! Abdo is a full-service accounting and consulting firm that delivers customized strategies and innovative solutions to help organizations and businesses succeed. With more than 200 professionals and over six decades of experience\, Abdo is ranked as one of the top accounting firms in the Midwest.\n\n\n\nJana joined the firm in 2012 and became a Partner in 2022. She leads the firm's Human Resources\, Marketing\, Technology\, and Administration teams\, focusing on strategic growth and improving both client and employee experiences. Recognized as one of the Top 50 Women in Accounting and a 2024 Women in Business Honoree\, Jana also consults with clients on strategic planning and regularly speaks at industry events on leadership and firm management.\n\n\n\nThe Sunrise Edina Business Breakfast is a networking event created to bring small- to medium-sized businesses in the Edina community together for an opportunity to learn more about our local businesses\, gain knowledge through education\, and share business challenges and opportunities. Be sure to bring your 60 second "creative" commercial detailing your business\, upcoming special event\, or a product offering you have. And don't forget to bring plenty of business cards for networking!\nOnce registration is closed\, please contact the Chamber directly at 952-806-9060 if you would like to attend.
X-ALT-DESC;FMTTYPE=text/html:<div _mce_style="font-size: 10pt\;">\n<div>\n<div>\n<div>&nbsp\;\n<p><b>Speaker: Jana Cinnamon</b><br />\nJoin us to hear from Jana Cinnamon\, Chief Operating Officer at Abdo\, our 2024 series sponsor!&nbsp\;Abdo is&nbsp\;a full-service accounting and consulting firm&nbsp\;that delivers customized strategies and innovative solutions to help organizations and businesses succeed. With more than 200 professionals and over six decades of experience\, Abdo is ranked as one of the top accounting firms in the Midwest.<br />\n<br />\nJana&nbsp\;joined the firm in 2012 and became a Partner in 2022. She leads the firm&#39\;s Human Resources\, Marketing\, Technology\, and Administration teams\, focusing on strategic growth and improving both client and employee experiences. Recognized as one of the Top 50 Women in Accounting and a 2024 Women in Business Honoree\, Jana also consults with clients on strategic planning and regularly speaks at industry events on leadership and firm management.<br />\n<br />\n<em>The Sunrise Edina Business Breakfast is a networking event created to bring small- to medium-sized businesses in the Edina community together for an opportunity to learn more about our local businesses\, gain knowledge through education\, and share business challenges and opportunities. Be sure to bring your 60 second &quot\;creative&quot\; commercial detailing your business\, upcoming special event\, or a product offering you have. And don&#39\;t forget to bring plenty of business cards for networking!</em></p>\nOnce registration is closed\, please contact the Chamber directly at 952-806-9060 if you would like to attend.&nbsp\;<br />\n&nbsp\;</div>\n</div>\n</div>\n</div>\n\n<div>&nbsp\;</div>\n
LOCATION:Edina Country Club
UID:e.1654.437120
SEQUENCE:3
DTSTAMP:20260421T083636Z
URL:https://business.edina.org/events/details/2024-sunrise-edina-business-breakfast-november-437120
END:VEVENT

END:VCALENDAR
