BEGIN:VCALENDAR
VERSION:2.0
PRODID:-//ChamberMaster//Event Calendar 2.0//EN
METHOD:PUBLISH
X-PUBLISHED-TTL:P3D
REFRESH-INTERVAL:P3D
CALSCALE:GREGORIAN
BEGIN:VEVENT
DTSTART:20240308T173000Z
DTEND:20240308T193000Z
X-MICROSOFT-CDO-ALLDAYEVENT:FALSE
SUMMARY:2024 State of the Community
DESCRIPTION:The Edina Chamber of Commerce and the City of Edina present our annual State of Community in partnership with the Rotary Club of Edina and the Rotary Club of Edina Morningside. Edina Mayor James B. Hovland and Edina Public Schools Superintendent Stacie Stanley will address city issues and present upcoming plans. Registration for this event is now closed!
X-ALT-DESC;FMTTYPE=text/html:<div color:="" sans="" source="" vertical-align:="">The Edina Chamber of Commerce and the City of Edina present our annual State of Community&nbsp\;in partnership with the Rotary Club of Edina and the Rotary Club of Edina Morningside. Edina Mayor James B. Hovland and Edina Public Schools Superintendent Stacie Stanley&nbsp\;will address city issues and present upcoming plans. Registration for this event is now closed!</div>\n
LOCATION:Braemar Golf Course
UID:e.1654.437098
SEQUENCE:3
DTSTAMP:20260419T223821Z
URL:https://business.edina.org/events/details/2024-state-of-the-community-437098
END:VEVENT

END:VCALENDAR
