BEGIN:VCALENDAR
VERSION:2.0
PRODID:-//ChamberMaster//Event Calendar 2.0//EN
METHOD:PUBLISH
X-PUBLISHED-TTL:P3D
REFRESH-INTERVAL:P3D
CALSCALE:GREGORIAN
BEGIN:VEVENT
DTSTART:20240517T123000Z
DTEND:20240517T140000Z
X-MICROSOFT-CDO-ALLDAYEVENT:FALSE
SUMMARY:2024 May Sunrise Edina Business Breakfast - Back at ECC!
DESCRIPTION:Speaker: Sara and Zach Zschernitz from Edina Coffee Roasters\n\n\nZach has been working in the coffee industry since the summer of 2008. Starting first as a barista\, Zach worked through the roles of roaster\, store manager\, and lead barista for national and local companies. His intention is to create extraordinary experiences for guests using next level customer service\, applying industry standards to coffee brewing and espresso technique\, and incorporating culinary and bartender influences to create exquisite drinks. \n\nSara has been working in small business management since the Spring of 2009. Her attention to detail has helped drive Edina Coffee Roasters since launching. Prior to launching\, Sara designed the look and feel of the branding\, knowing full well that rushing into roasting without investing in the overall look of the brand was not a good strategy. Roasting isn't enough. People eat with their eyes first - therefore\, the look of the brand is very important. After launching\, Sara has invested in developing meaningful connections with the community and vendors across the state.\n\n\nTogether they've created a company that has grown from a pop-up experience into a brick and mortar with much more to come! \n\n\n\nThe Sunrise Edina Business Breakfast is a networking event created to bring small- to medium-sized businesses in the Edina community together for an opportunity to learn more about our local businesses\, gain knowledge through education\, and share business challenges and opportunities. Be sure to bring your 60 second "creative" commercial detailing your business\, upcoming special event\, or a product offering you have. And don't forget to bring plenty of business cards for networking!\nOnce registration is closed\, please contact the Chamber directly at 952-806-9060 if you would like to attend.
X-ALT-DESC;FMTTYPE=text/html:<div _mce_style="font-size: 10pt\;">\n<div>\n<div>\n<div>\n<p><strong>Speaker: Sara and Zach&nbsp\;Zschernitz from Edina Coffee Roasters</strong></p>\n\n<div>\n<p dir="ltr"><span style="color:#000000\;">Zach has been working in the coffee industry since the summer of 2008. Starting first as a barista\, Zach worked through the roles of roaster\, store manager\, and lead barista for national and local companies. His intention is to create extraordinary experiences for guests using next level customer service\, applying industry standards to coffee brewing and espresso technique\, and incorporating culinary and bartender influences to create exquisite drinks.&nbsp\;</span></p>\n\n<p dir="ltr"><span style="color:#000000\;">Sara has been working in small business management since the Spring of 2009. Her attention to detail has helped drive Edina Coffee Roasters since launching. Prior to launching\, Sara designed the look and feel of the branding\, knowing full well that rushing into roasting without investing in the overall look of the brand was not a good strategy. Roasting isn&rsquo\;t enough. People eat with their eyes first - therefore\, the look of the brand is very important. After launching\, Sara has invested in developing meaningful connections with the community and vendors across the state.</span></p>\n</div>\n\n<p><span style="color:#000000\;">Together they&rsquo\;ve created a company that has grown from a pop-up experience into a brick and mortar with much more to come!&nbsp\;<br />\n<br />\n<em>The Sunrise Edina Business Breakfast is a networking event created to bring small- to medium-sized businesses in the Edina community together for an opportunity to learn more about our local businesses\, gain knowledge through education\, and share business challenges and opportunities. Be sure to bring your 60 second &quot\;creative&quot\; commercial detailing your business\, upcoming special event\, or a product offering you have. And don&#39\;t forget to bring plenty of business cards for networking!</em></span></p>\n<span style="color:#000000\;">Once registration is closed\, please contact the Chamber directly at 952-806-9060 if you would like to attend.&nbsp\;</span><br />\n&nbsp\;</div>\n</div>\n</div>\n</div>\n\n<div>&nbsp\;</div>\n
LOCATION:Edina Country Club
UID:e.1654.437112
SEQUENCE:3
DTSTAMP:20260419T190545Z
URL:https://business.edina.org/events/details/2024-may-sunrise-edina-business-breakfast-back-at-ecc-437112
END:VEVENT

END:VCALENDAR
