BEGIN:VCALENDAR
VERSION:2.0
PRODID:-//ChamberMaster//Event Calendar 2.0//EN
METHOD:PUBLISH
X-PUBLISHED-TTL:P3D
REFRESH-INTERVAL:P3D
CALSCALE:GREGORIAN
BEGIN:VEVENT
DTSTART:20240621T123000Z
DTEND:20240621T140000Z
X-MICROSOFT-CDO-ALLDAYEVENT:FALSE
SUMMARY:2024 June Sunrise Edina Business Breakfast
DESCRIPTION:Speaker: Bryan Ruch\, Groveland Confections\n\nAbout Groveland:\n\nGroveland Confections is a family-owned local Minnesotan chocolate and confectionery that takes pride in creating delectable sweets using high-quality and clean ingredients with a perfect blend of traditional craftsmanship and innovative flair. Each of our confections is not merely a treat\, but an invitation to savor a moment of joy in your day. Groveland specializes in brand elevation through our tiered gifting and custom chocolate bar programs. We know gifting can take up precious time and we're here to relieve the pressure.\n\nAbout Bryan:\n\nAfter 20 years in luxury hospitality\, Bryan decided to channel his passion for excellent service and craftsmanship into creating premium chocolates and gifts. Having grown up internationally and living all over the US\, Bryan and his wife Anna and two children (5 and 3) are now proud residents of Edina.\n\nThe Sunrise Edina Business Breakfast is a networking event created to bring small- to medium-sized businesses in the Edina community together for an opportunity to learn more about our local businesses\, gain knowledge through education\, and share business challenges and opportunities. Be sure to bring your 60 second "creative" commercial detailing your business\, upcoming special event\, or a product offering you have. And don't forget to bring plenty of business cards for networking!\nOnce registration is closed\, please contact the Chamber directly at 952-806-9060 if you would like to attend.
X-ALT-DESC;FMTTYPE=text/html:<div _mce_style="font-size: 10pt\;">\n<p><strong>Speaker: Bryan Ruch\, Groveland Confections</strong></p>\n\n<p><strong>About Groveland:</strong></p>\n\n<p>Groveland Confections is a family-owned local Minnesotan chocolate and confectionery that takes pride in creating delectable sweets using high-quality and clean ingredients with a perfect blend of traditional craftsmanship and innovative flair. Each of our confections is not merely a treat\, but an invitation to savor a moment of joy in your day. Groveland specializes in brand elevation through our tiered gifting and custom chocolate bar programs. We know gifting can take up precious time and we&rsquo\;re here to relieve the pressure.</p>\n\n<p><strong>About Bryan:</strong></p>\n\n<p>After 20 years in luxury hospitality\, Bryan decided to channel his passion for excellent service and craftsmanship into creating premium chocolates and gifts. Having grown up internationally and living all over the US\, Bryan and his wife Anna and two children (5 and 3) are now proud residents of Edina.</p>\n\n<p><span style="color:#000000\;"><em>The Sunrise Edina Business Breakfast is a networking event created to bring small- to medium-sized businesses in the Edina community together for an opportunity to learn more about our local businesses\, gain knowledge through education\, and share business challenges and opportunities. Be sure to bring your 60 second &quot\;creative&quot\; commercial detailing your business\, upcoming special event\, or a product offering you have. And don&#39\;t forget to bring plenty of business cards for networking!</em></span></p>\n<span style="color:#000000\;">Once registration is closed\, please contact the Chamber directly at 952-806-9060 if you would like to attend.&nbsp\;</span><br />\n&nbsp\;</div>\n\n<div>&nbsp\;</div>\n
LOCATION:Edina Country Club
UID:e.1654.437114
SEQUENCE:3
DTSTAMP:20260419T171444Z
URL:https://business.edina.org/events/details/2024-june-sunrise-edina-business-breakfast-437114
END:VEVENT

END:VCALENDAR
