BEGIN:VCALENDAR
VERSION:2.0
PRODID:-//ChamberMaster//Event Calendar 2.0//EN
METHOD:PUBLISH
X-PUBLISHED-TTL:P3D
REFRESH-INTERVAL:P3D
CALSCALE:GREGORIAN
BEGIN:VEVENT
DTSTART:20240119T133000Z
DTEND:20240119T150000Z
X-MICROSOFT-CDO-ALLDAYEVENT:FALSE
SUMMARY:2024 January Sunrise Edina Business Breakfast - NEW LOCATION
DESCRIPTION:**NEW LOCATION | THE E OFFICES**\n\n \n**We cannot accommodate walk ups for this event.\n\n \n\nSpeaker: Annette Wildenauer | Edina Innovation Lab\n\nThe Edina Innovation Lab inspires you in ways no traditional business program could. With a dynamic mixture of coaching\, community\, expertise and passion to create the chemistry that entrepreneurs need to fuel their business goals.\n\nJoin us in January to hear from Chief Innovation Officer\, Annette Wildenauer and a few businesses that have completed the B.I.G. Program and implemented their hard work into their business plan!\n\n\nThe Sunrise Edina Business Breakfast is a networking event created to bring small- to medium-sized businesses in the Edina community together for an opportunity to learn more about our local businesses\, gain knowledge through education\, and share business challenges and opportunities. Be sure to bring your 60 second "creative" commercial detailing your business\, upcoming special event\, or a product offering you have. And don't forget to bring plenty of business cards for networking!\n\n\n\nOnce registration is closed\, please contact the Chamber directly at 952-806-9060 if you would like to attend.
X-ALT-DESC;FMTTYPE=text/html:<div _mce_style="font-size: 10pt\;">\n<div>\n<div>\n<div><strong><span style="color:#FF0000\;">**NEW LOCATION | THE E OFFICES**</span></strong><br />\n&nbsp\;\n<p class="p1" style="margin: 0px\; font-variant-numeric: normal\; font-variant-east-asian: normal\; font-variant-alternates: normal\; font-kerning: auto\; font-optical-sizing: auto\; font-feature-settings: normal\; font-variation-settings: normal\; font-variant-position: normal\; font-stretch: normal\; line-height: normal\; font-family: &quot\;Helvetica Neue&quot\;\; color: rgb(0\, 0\, 0)\;"><strong>**We cannot accommodate walk ups for this event.</strong><br />\n&nbsp\;</p>\n\n<p><strong>Speaker: Annette Wildenauer | Edina Innovation Lab</strong></p>\n\n<p>The Edina Innovation Lab inspires you in ways no traditional business program could.&nbsp\;With a dynamic mixture of coaching\, community\, expertise and passion to create the chemistry that entrepreneurs need to fuel their business goals.</p>\n\n<p>Join us in January to hear from Chief Innovation Officer\, Annette Wildenauer and a few businesses that have completed the B.I.G. Program and implemented their hard work into their business plan!</p>\n<br />\n<em>The Sunrise Edina Business Breakfast is a networking event created to bring small- to medium-sized businesses in the Edina community together for an opportunity to learn more about our local businesses\, gain knowledge through education\, and share business challenges and opportunities. Be sure to bring your 60 second &quot\;creative&quot\; commercial detailing your business\, upcoming special event\, or a product offering you have. And don&#39\;t forget to bring plenty of business cards for networking!</em><br />\n<br />\n<strong>Once registration is closed\, please contact the Chamber directly at 952-806-9060 if you would like to attend.&nbsp\;</strong><br />\n&nbsp\;</div>\n</div>\n</div>\n</div>\n\n<div>&nbsp\;</div>\n
LOCATION:**NEW LOCATION** The E Offices 7201 Metro BLVD Edina\, MN
UID:e.1654.437089
SEQUENCE:3
DTSTAMP:20260420T034150Z
URL:https://business.edina.org/events/details/2024-january-sunrise-edina-business-breakfast-new-location-437089
END:VEVENT

END:VCALENDAR
