BEGIN:VCALENDAR
VERSION:2.0
PRODID:-//ChamberMaster//Event Calendar 2.0//EN
METHOD:PUBLISH
X-PUBLISHED-TTL:P3D
REFRESH-INTERVAL:P3D
CALSCALE:GREGORIAN
BEGIN:VEVENT
DTSTART:20240216T133000Z
DTEND:20240216T150000Z
X-MICROSOFT-CDO-ALLDAYEVENT:FALSE
SUMMARY:2024 February Sunrise Edina Business Breakfast - NEW LOCATION
DESCRIPTION:**NEW LOCATION | THE E OFFICES**\n\n \nSpeaker: Myka Hanson | Teen Forward\n\n\n\nThe teenage years have never been easy. Now\, more than ever\, teens and tweens need support and resources to guide them through adolescence.\n\nTeen Forward works with tweens and teens ages 11-18 at any point during the adolescent years to get back on course\, stay the course\, or explore new courses!\n\nWorking through Teen Forward's programs\, teens transform unpredictable moods and behaviors\, learn to language how they feel\, and live into their dreams. Parents simultaneously learn how to communicate with\, mentor\, and support their teen in a healthy way that results in a calmer\, happier home.\n\n\nMyka Hanson holds a Ph.D. in psychology and somatic studies\, as well as Masters Degrees in psychology/somatic studies and special education. Her business\, Teen Forward\, helps teens\, young adults\, and parents navigate adolescence as well as the college years and young adulthood.\n\n\n\nDr. Hanson is a step-parent\, wife\, dog owner\, and rabid X-Files fan. She lives in Shakopee and has an office in Edina. She spends her days working with teens\, families\, and businesses with teens and young adults on their teams. She spends her evenings trying to practice what she preaches with her two teenage stepdaughters. \n\n\n\nThe Sunrise Edina Business Breakfast is a networking event created to bring small- to medium-sized businesses in the Edina community together for an opportunity to learn more about our local businesses\, gain knowledge through education\, and share business challenges and opportunities. Be sure to bring your 60 second "creative" commercial detailing your business\, upcoming special event\, or a product offering you have. And don't forget to bring plenty of business cards for networking!\n\n\n\nOnce registration is closed\, please contact the Chamber directly at 952-806-9060 if you would like to attend.
X-ALT-DESC;FMTTYPE=text/html:<div _mce_style="font-size: 10pt\;">\n<div>\n<div>\n<div><br />\n**NEW LOCATION | THE E OFFICES**<br />\n&nbsp\;\n<p>Speaker: Myka Hanson | Teen Forward</p>\n\n<div>\n<div>\n<p>The teenage years have never been easy. Now\, more than ever\, teens and tweens need support and resources to guide them through adolescence.</p>\n\n<p>Teen Forward works with tweens and teens ages 11-18 at any point during the adolescent years to get back on course\, stay the course\, or explore new courses!</p>\n\n<p>Working through Teen Forward&rsquo\;s programs\, teens transform unpredictable moods and behaviors\, learn to language how they feel\, and live into their dreams. Parents simultaneously learn how to communicate with\, mentor\, and support their teen in a healthy way that results in a calmer\, happier home.</p>\n</div>\n</div>\nMyka Hanson holds a Ph.D. in psychology and somatic studies\, as well as Masters Degrees in psychology/somatic studies and special education. Her business\, Teen Forward\, helps teens\, young adults\, and parents navigate adolescence as well as the college years and young adulthood.<br />\n<br />\nDr. Hanson is a step-parent\, wife\, dog owner\, and rabid X-Files fan. She lives in Shakopee and has an office in Edina. She spends her days working with teens\, families\, and businesses with teens and young adults on their teams. She spends her evenings trying to practice what she preaches with her two teenage stepdaughters.&nbsp\;<br />\n<br />\nThe Sunrise Edina Business Breakfast is a networking event created to bring small- to medium-sized businesses in the Edina community together for an opportunity to learn more about our local businesses\, gain knowledge through education\, and share business challenges and opportunities. Be sure to bring your 60 second &quot\;creative&quot\; commercial detailing your business\, upcoming special event\, or a product offering you have. And don&#39\;t forget to bring plenty of business cards for networking!<br />\n<br />\nOnce registration is closed\, please contact the Chamber directly at 952-806-9060 if you would like to attend.&nbsp\;<br />\n&nbsp\;</div>\n</div>\n</div>\n</div>\n\n<div>&nbsp\;</div>\n
LOCATION:**NEW LOCATION** The E Offices 7201 Metro BLVD Edina\, MN
UID:e.1654.437090
SEQUENCE:3
DTSTAMP:20260420T001915Z
URL:https://business.edina.org/events/details/2024-february-sunrise-edina-business-breakfast-new-location-437090
END:VEVENT

END:VCALENDAR
